BEGIN:VCALENDAR
VERSION:2.0
PRODID:-//Förderverein Schloß Horst e.V. - ECPv6.15.11//NONSGML v1.0//EN
CALSCALE:GREGORIAN
METHOD:PUBLISH
X-WR-CALNAME:Förderverein Schloß Horst e.V.
X-ORIGINAL-URL:https://www.schloss-horst.de
X-WR-CALDESC:Veranstaltungen für Förderverein Schloß Horst e.V.
REFRESH-INTERVAL;VALUE=DURATION:PT1H
X-Robots-Tag:noindex
X-PUBLISHED-TTL:PT1H
BEGIN:VTIMEZONE
TZID:Europe/Berlin
BEGIN:DAYLIGHT
TZOFFSETFROM:+0100
TZOFFSETTO:+0200
TZNAME:CEST
DTSTART:20250330T010000
END:DAYLIGHT
BEGIN:STANDARD
TZOFFSETFROM:+0200
TZOFFSETTO:+0100
TZNAME:CET
DTSTART:20251026T010000
END:STANDARD
BEGIN:DAYLIGHT
TZOFFSETFROM:+0100
TZOFFSETTO:+0200
TZNAME:CEST
DTSTART:20260329T010000
END:DAYLIGHT
BEGIN:STANDARD
TZOFFSETFROM:+0200
TZOFFSETTO:+0100
TZNAME:CET
DTSTART:20261025T010000
END:STANDARD
BEGIN:DAYLIGHT
TZOFFSETFROM:+0100
TZOFFSETTO:+0200
TZNAME:CEST
DTSTART:20270328T010000
END:DAYLIGHT
BEGIN:STANDARD
TZOFFSETFROM:+0200
TZOFFSETTO:+0100
TZNAME:CET
DTSTART:20271031T010000
END:STANDARD
END:VTIMEZONE
BEGIN:VEVENT
DTSTART;TZID=Europe/Berlin:20260204T190000
DTEND;TZID=Europe/Berlin:20260204T190000
DTSTAMP:20260424T100402
CREATED:20251217T170936Z
LAST-MODIFIED:20251217T171154Z
UID:1557-1770231600-1770231600@www.schloss-horst.de
SUMMARY:Mir ist komisch. – Dann lach doch!
DESCRIPTION:Melange im Schloss mit Leslie Sternenfeld \n  \nLeslies Leben findet auf und hinter der Bühne statt. Manchmal auch zu Hause\, wenn er Geschichten schreibt oder den zweiten Socken sucht. Und so fragt er sich oft: Was kann phantastischer sein als ein Wäschestück\, das er in die Waschmaschine geworfen hat und dann in Omas Musiktruhe wiederentdeckt? Wenn jemand nicht aus der Drehtür herausfindet – läuft‘s dann im Leben für ihn rund? Wer ist ein echter Weltmeister – der Torschütze im Endspiel oder ein Fan\, der jahrzehntelang feiert? Große Fragen brauchen phantastische Antworten – sonst suchen wir ein Leben lang die zweite Socke. Oder den Sinn des Lebens. Oder ein Geschenk für die Schwiegermutter.\nLeslie Sternenfeld reist in seinen Geschichten und Liedern immer wieder mit seinem Publikum aus dem Alltag in parallele Welten oder landet mit dem Überirdischen auf dem Boden der Tatsachen – denn es könnte doch alles auch ganz anders sein. Können könnte es.\nLeslie Sternenfeld lebt als Musik-Kabarettist und Satiriker in Witten. Er studierte Schlagzeug\, Klavier\, Komposition sowie Chor- und Orchesterleitung und beherrscht diverse Instrumente\, komponiert\, arrangiert und inszeniert. Seit 2016 ist er \n künstlerischer Leiter von „Kultur auffem Hügel“ in Witten. Er steht als Solist mit phantastischem Musikkabarett auf der Bühne\, aber auch in musikalisch-humoristischen Ensembles wie Luna und Latüchte\, Partnerlausch\, Twin Peakund Sternenkeim. Und er schreibt Geschichten: Soeben erschien sein erstes Buch beim OCM-Verlag\, Dortmund \nMelange e.V.\, Tel. 0231/4775981\,\ninfo@melange-im-netz.de\nhttp://www.melange-im-netz.de/\nTel: 0231/4775981 \n© Martin Bross
URL:https://www.schloss-horst.de/veranstaltung/mir-ist-komisch-dann-lach-doch/
LOCATION:Glashalle behindertengerecht\, Turfstraße 21\, Gelsenkirchen\, 45899\, Deutschland
END:VEVENT
BEGIN:VEVENT
DTSTART;TZID=Europe/Berlin:20260205T180000
DTEND;TZID=Europe/Berlin:20260205T180000
DTSTAMP:20260424T100402
CREATED:20251217T171532Z
LAST-MODIFIED:20251217T171658Z
UID:1563-1770314400-1770314400@www.schloss-horst.de
SUMMARY:Zeitreise im Schloss Horst
DESCRIPTION:An jedem ersten Donnerstag des Monats ist das Erlebnismuseum der\nAusgangspunkt für eine spannende Führung durch die 450 Jahre alte\nGeschichte des Schlosses. Unter fachkundiger Leitung erleben Sie\nEinblicke in die Welt der Handwerker\, Pächter aber auch der adligen\nBewohner des Hauses. \nTreffpunkt: Glashalle Schloss Horst \nDie „Reise“ dauert etwa eine Stunde und ist kostenfrei.\nEine Anmeldung ist nicht erforderlich. \nWeitere Informationen:\nTel: 0209/1696131\nschloss.horst@gelsenkirchen.de
URL:https://www.schloss-horst.de/veranstaltung/zeitreise-im-schloss-horst-12/
LOCATION:Glashalle behindertengerecht\, Turfstraße 21\, Gelsenkirchen\, 45899\, Deutschland
END:VEVENT
BEGIN:VEVENT
DTSTART;TZID=Europe/Berlin:20260215T180000
DTEND;TZID=Europe/Berlin:20260215T180000
DTSTAMP:20260424T100402
CREATED:20260207T152644Z
LAST-MODIFIED:20260207T153356Z
UID:1588-1771178400-1771178400@www.schloss-horst.de
SUMMARY:Der Streit des Karnevals mit der Fasten
DESCRIPTION:Ein Konzert für alle\, die an diesem Wochenende einmal durchatmen möchten. \n\nKarneval ist laut.Dieser Sonntag erzählt eine andere Geschichte. \nDas Programm führt in eine Zeit nach dem Dreißigjährigen Krieg\,in der Musik zwischen Ausgelassenheit und innerer Einkehr pendelt. \nTänze\, die einst zum Karneval gehörten –und Klänge\, die bereits die Fastenzeit ahnen lassen. \nMusik zum Zuhören.Ein ruhiger Gegenpol zum Karnevalswochenende. \nZur besseren Planung freuen wir uns bei grundsätzlichem Interesseüber eine kurze Rückmeldung unter: fabri@caterva-musica.de
URL:https://www.schloss-horst.de/veranstaltung/der-streit-des-karnevals-mit-der-fasten/
LOCATION:Glashalle behindertengerecht\, Turfstraße 21\, Gelsenkirchen\, 45899\, Deutschland
ORGANIZER;CN="caterva musica":MAILTO:info@caterva-musica.de
END:VEVENT
BEGIN:VEVENT
DTSTART;TZID=Europe/Berlin:20260220T193000
DTEND;TZID=Europe/Berlin:20260220T193000
DTSTAMP:20260424T100402
CREATED:20251217T172216Z
LAST-MODIFIED:20251217T173032Z
UID:1567-1771615800-1771615800@www.schloss-horst.de
SUMMARY:Caroll Vanwelden (B) - »Shakespeare Sonnets«
DESCRIPTION:Caroll Vanwelden ist eine belgische Jazzsängerin\, Pianistin und Komponistin\, die mit ihren einzigartigen Vertonungen von William Shakespeares Sonetten internationale Aufmerksamkeit erlangte. In ihrer sogenannten Shakespeare-Trilogie – bestehend aus den Alben Caroll Vanwelden Sings Shakespeare Sonnets I (2012)\, II (2014) und III (2017) – verbindet sie die poetische Sprache Shakespeares mit modernen\nJazzarrangements. \nVanwelden gelingt es\, die emotionale Tiefe und Vielschichtigkeit der Sonette in ausdrucksstarke Musik zu übersetzen: Mal swingend\, mal melancholisch\, stets mit großer musikalischer Sensibilität. Ihre warme Stimme\, kombiniert mit feinem Klavierspiel und durchdachten Kompositionen\, macht diese Werke zu einem\nbesonderen Dialog zwischen klassischer Dichtung und zeitgenössischem Jazz. \nMit diesem Projekt hat Caroll Vanwelden einen eigenständigen künstlerischen Stil geschaffen\, der sowohl Literatur- als auch Jazzliebhaber begeistert. \nLINEUP CAROLL VANWELDEN GESANG PIANO ELECTRONICS\, JEAN-FRANCOIS ASSY CELLO ELECTRONICS\, DOMINIQUÉ VANTOMME KEYBOARDS SYNTHEZISER \n27.00 Euro\, erm. 14\,00 Euro\n31\,00 Euro\, erm. 16\,00 Euro \nTicketshop: https://tickazz.de/publicjazz\nTel: 0178 810 68 86\nE-Mail: post@publicjazz.de\nhttps://publicjazz.de/
URL:https://www.schloss-horst.de/veranstaltung/caroll-vanwelden-b-shakespeare-sonnets/
LOCATION:Glashalle behindertengerecht\, Turfstraße 21\, Gelsenkirchen\, 45899\, Deutschland
ORGANIZER;CN="Public Jazz Events":MAILTO:post@publicjazz.de
END:VEVENT
BEGIN:VEVENT
DTSTART;TZID=Europe/Berlin:20260221T180000
DTEND;TZID=Europe/Berlin:20260221T180000
DTSTAMP:20260424T100402
CREATED:20251217T172744Z
LAST-MODIFIED:20251217T172945Z
UID:1571-1771696800-1771696800@www.schloss-horst.de
SUMMARY:„ Drei Männer im Schnee“ - von Erich Kästner
DESCRIPTION:Eine Verwechslungskomödie aus der Feder von Erich Kästner aus dem Jahr 1934.\nMehrmals verfilmt und jetzt für die Bühne neu bearbeitet.\nHandlung. Der verschrobene Millionär Tobler nimmt nicht nur unter falschem Namen an einem Preisausschreiben seines eigenen Konzerns teil\,\ner gewinnt auch noch den 2. Preis und tritt den gewonnenen Winterurlaub in einem Grandhotel in den Alpen an – inkognito als armer Schlucker Schulze.\nUnauffällig begleitet wird er von seinem Butler Johann.\nDamit man Tobler nicht allzu übel mitspielt\, verrät seine Tochter den Plan an die Hoteldirektion.\nDoch diese hält den arbeitslosen Werbefachmann Fritz Hagedorn\, der zusammen mit Tobler in dem Hotel ankommt\, für den vermeintlichen Multimillionär – und hofiert diesen nach Kräften.\nDen echten Millionär steckt man dagegen in einen schäbigen Abstellraum und schikaniert ihn ausgiebig.\nDie Verwechslung hat ungeahnte Folgen – und für die drei unterschiedlichen Männer beginnt ein Urlaub\, der es in sich hat. \nRegie: Ulrich Penquitt (Trias Theater.)\nMusik: Paul Köhler\nKostüme: Angela Heid Schilling \nKarten Bestellung unter\nTel: 0156 78492938 und\nTextilhaus strickling\, Essener str. 4-6\, 45899 Gelsenkirchen \nulrichpenquitt@gelsennet.de \nE.G.O.N. in Kooperation mit dem KBZ Schloss Horst\n© frei
URL:https://www.schloss-horst.de/veranstaltung/drei-maenner-im-schnee-von-erich-kaestner/
LOCATION:Glashalle behindertengerecht\, Turfstraße 21\, Gelsenkirchen\, 45899\, Deutschland
ORGANIZER;CN="E.G.O.N. in Kooperation mit dem KBZ Schloss Horst":MAILTO:ulrichpenquitt@gelsennet.de
END:VEVENT
END:VCALENDAR