BEGIN:VCALENDAR
VERSION:2.0
PRODID:-//Förderverein Schloß Horst e.V. - ECPv6.15.11//NONSGML v1.0//EN
CALSCALE:GREGORIAN
METHOD:PUBLISH
X-WR-CALNAME:Förderverein Schloß Horst e.V.
X-ORIGINAL-URL:https://www.schloss-horst.de
X-WR-CALDESC:Veranstaltungen für Förderverein Schloß Horst e.V.
REFRESH-INTERVAL;VALUE=DURATION:PT1H
X-Robots-Tag:noindex
X-PUBLISHED-TTL:PT1H
BEGIN:VTIMEZONE
TZID:Europe/Berlin
BEGIN:DAYLIGHT
TZOFFSETFROM:+0100
TZOFFSETTO:+0200
TZNAME:CEST
DTSTART:20240331T010000
END:DAYLIGHT
BEGIN:STANDARD
TZOFFSETFROM:+0200
TZOFFSETTO:+0100
TZNAME:CET
DTSTART:20241027T010000
END:STANDARD
BEGIN:DAYLIGHT
TZOFFSETFROM:+0100
TZOFFSETTO:+0200
TZNAME:CEST
DTSTART:20250330T010000
END:DAYLIGHT
BEGIN:STANDARD
TZOFFSETFROM:+0200
TZOFFSETTO:+0100
TZNAME:CET
DTSTART:20251026T010000
END:STANDARD
BEGIN:DAYLIGHT
TZOFFSETFROM:+0100
TZOFFSETTO:+0200
TZNAME:CEST
DTSTART:20260329T010000
END:DAYLIGHT
BEGIN:STANDARD
TZOFFSETFROM:+0200
TZOFFSETTO:+0100
TZNAME:CET
DTSTART:20261025T010000
END:STANDARD
END:VTIMEZONE
BEGIN:VEVENT
DTSTART;TZID=Europe/Berlin:20251001T190000
DTEND;TZID=Europe/Berlin:20251001T190000
DTSTAMP:20260424T173058
CREATED:20250908T180017Z
LAST-MODIFIED:20250908T181634Z
UID:1476-1759345200-1759345200@www.schloss-horst.de
SUMMARY:„Mein lieber Scholli!“ – Ein Tegtmeier-Abend mit Carsten Bülow Melange im Schloss
DESCRIPTION:„Mein lieber Scholli!“ – ein Programm zu Ehren des großen Ruhrgebietskomikers\, Kabarettisten\, Schauspielers und Autors\, Jürgen von Manger. Seine Kultfigur Adolf Tegtmeier verkörpert Bülow wie kaum ein anderer. Auch wenn er ihm nicht annähernd ähnlich sieht. Bülow verzichtet auf eine Maske – nur die charakteristische Kappe ist für ihn nicht weg zu denken.\nLassen Sie sich diesen kurzweiligen Abend mit unvergleichlich schnoddrigem Charme nicht entgehen. Zu hören sind Klassiker wie: „Die Sexualaufklärung“\, „Die Verlobungsrede“\, „Der Schwiegermuttermörder“ und „Die große Westernstory“. Zudem erfährt das Publikum auch etwas über den Schauspieler Jürgen von Manger\, der eigentlich eine klassische Theaterkarriere hinter sich hatte\, bevor er zum Tegtmeier wurde. Natürlich wird auch gesungen\, denn ein Tegtmeier-Abend“ ohne „Bottroper Bier“ ist nicht denkbar.\nCarsten Bülow\, geb. 1963\, lebt in Dortmund. Seit seiner Schulzeit spielt er Theater. Nach 10 Jahren am Stadttheater Dortmund arbeitet er seit 2010 als freier Schauspieler\, Rezitator Moderator und Synchronsprecher. Er wirkte an zahlreichen Produktionen mit\, u.a. an der Oper Wuppertal\, im Theater Fletsch Bizzl oder auf der MS Europa. Er gilt als Spezialist für klassische\nTexte mit bislang etwa 1000 Lesungen. \nEinlass ab 18:30 Uhr. \nhttp://www.melange-im-netz.de \ninfo@melange-im-netz.de
URL:https://www.schloss-horst.de/veranstaltung/mein-lieber-scholli-ein-tegtmeier-abend-mit-carsten-buelow-melange-im-schloss/
LOCATION:Glashalle behindertengerecht\, Turfstraße 21\, Gelsenkirchen\, 45899\, Deutschland
END:VEVENT
BEGIN:VEVENT
DTSTART;TZID=Europe/Berlin:20251003T110000
DTEND;TZID=Europe/Berlin:20251003T180000
DTSTAMP:20260424T173058
CREATED:20250908T181217Z
LAST-MODIFIED:20250908T181217Z
UID:1478-1759489200-1759514400@www.schloss-horst.de
SUMMARY:Türen auf mit der Maus - ZusammenTun
DESCRIPTION:Komm mit uns auf eine ZEITreise voller SPIEL und Spaß! \nAm Maus-Türöffner-Tag kannst du im und am Schloss Horst viele Spiele ausprobieren\, wie sie Kinder auch vor 450 Jahren gespielt haben.\nDu kannst Armbrust schießen\, eine Brücke wie Leonardo da Vinci bauen oder Spielsachen aus Ton basteln. Außerdem gibt es bei uns ein historisches Kinderkarussel\, Märchenzelt und Musik.\nNatürlich kannst du auch das Schloss erkunden und erfahren\, wie die Menschen\nhier gelebt\, gearbeitet und auch gespielt haben. Wie jedes Jahr bleibt es\nspannend\, ob die Maus zu uns kommt!
URL:https://www.schloss-horst.de/veranstaltung/tueren-auf-mit-der-maus-zusammentun-2/
LOCATION:Schloss und Außengelände
END:VEVENT
BEGIN:VEVENT
DTSTART;TZID=Europe/Berlin:20251026T180000
DTEND;TZID=Europe/Berlin:20251026T200000
DTSTAMP:20260424T173058
CREATED:20250927T161426Z
LAST-MODIFIED:20250927T161426Z
UID:1494-1761501600-1761508800@www.schloss-horst.de
SUMMARY:Telemann – der vermischte Geschmack
DESCRIPTION:3. Konzert der Reihe \n\nMit Telemanns „vermischtem Geschmack“ rückt das Konzert die kreative Kraft des transkulturellen Austauschs ins Zentrum – eine Botschaft\, die auch 2025 hochaktuell bleibt. \n\nGeorg Philipp Telemann (1681–1767) gilt als Inbegriff des barocken „vermischten Geschmacks“ – einer musikalischen Haltung\, die nationale Stile nicht gegeneinander ausspielte\, sondern kreativ verband. Im dritten Konzert der Reihe Westfalen Barock 2025 – Der deutsche Musikstil im Barock: Das Beste aus allen Nationen widmet sich caterva musica diesem weltoffenen Komponisten mit drei späten Meisterwerken: \nDie Ouverture „Les nations“ bringt verschiedene Nationalstile klanglich auf die Bühne\, die Ouverture in D-Dur spiegelt feierliche französische Einflüsse\, und die dramatische Kantate „Ino“ (TWV 20:41)\, eines von Telemanns letzten Vokalwerken\, erzählt – basierend auf Ovids Metamorphosen – den schicksalhaften Wandel der Ino zur Meeresgöttin Leucothea. \nDie portugiesische Sopranistin Joana Santos\, bereits gefeiert in Klangwelten – Mozart trifft Portugal\, interpretiert die eindrucksvolle Solorolle mit emotionaler Tiefe. \nMit Telemanns „vermischtem Geschmack“ rückt das Konzert die kreative Kraft des transkulturellen Austauschs ins Zentrum – eine Botschaft\, die auch 2025 hochaktuell bleibt. \nEintritt:\nKategorie: normal: 30.- EUR\, erm. 25.- EUR\, unter 18 Jahren 2.- EUR \,\nKategorie B: normal: 25.- EUR\, erm. 20.- EUR\, unter 18 Jahren 2.- EUR\nKategorie C: normal: 15.- EUR\, erm. 10.- EUR\, unter 18 Jahren frei \,\nStehbereich: 5€\nSozialkarten: 2€\n\nSaalplan:\n\nErmäßigungen für Vereinsmitglieder von caterva musica e.V. und Schwerbehinderte. Sozialkarten für Empfänger von Sozialhilfe\, Schüler\, Studenten und Auszubildende. Freier Eintritt für Kinder und Jugendliche bis 18 Jahre.\n\nReservierungen unter:Tel: 02368 8980945 | Anrufbeantworter
URL:https://www.schloss-horst.de/veranstaltung/telemann-der-vermischte-geschmack/
LOCATION:Glashalle behindertengerecht\, Turfstraße 21\, Gelsenkirchen\, 45899\, Deutschland
ORGANIZER;CN="caterva musica":MAILTO:info@caterva-musica.de
END:VEVENT
END:VCALENDAR