BEGIN:VCALENDAR
VERSION:2.0
PRODID:-//Förderverein Schloß Horst e.V. - ECPv6.15.11//NONSGML v1.0//EN
CALSCALE:GREGORIAN
METHOD:PUBLISH
X-WR-CALNAME:Förderverein Schloß Horst e.V.
X-ORIGINAL-URL:https://www.schloss-horst.de
X-WR-CALDESC:Veranstaltungen für Förderverein Schloß Horst e.V.
REFRESH-INTERVAL;VALUE=DURATION:PT1H
X-Robots-Tag:noindex
X-PUBLISHED-TTL:PT1H
BEGIN:VTIMEZONE
TZID:Europe/Berlin
BEGIN:DAYLIGHT
TZOFFSETFROM:+0100
TZOFFSETTO:+0200
TZNAME:CEST
DTSTART:20240331T010000
END:DAYLIGHT
BEGIN:STANDARD
TZOFFSETFROM:+0200
TZOFFSETTO:+0100
TZNAME:CET
DTSTART:20241027T010000
END:STANDARD
BEGIN:DAYLIGHT
TZOFFSETFROM:+0100
TZOFFSETTO:+0200
TZNAME:CEST
DTSTART:20250330T010000
END:DAYLIGHT
BEGIN:STANDARD
TZOFFSETFROM:+0200
TZOFFSETTO:+0100
TZNAME:CET
DTSTART:20251026T010000
END:STANDARD
BEGIN:DAYLIGHT
TZOFFSETFROM:+0100
TZOFFSETTO:+0200
TZNAME:CEST
DTSTART:20260329T010000
END:DAYLIGHT
BEGIN:STANDARD
TZOFFSETFROM:+0200
TZOFFSETTO:+0100
TZNAME:CET
DTSTART:20261025T010000
END:STANDARD
END:VTIMEZONE
BEGIN:VEVENT
DTSTART;TZID=Europe/Berlin:20250807T173000
DTEND;TZID=Europe/Berlin:20250807T190000
DTSTAMP:20260424T212201
CREATED:20250616T130016Z
LAST-MODIFIED:20250616T130016Z
UID:1425-1754587800-1754593200@www.schloss-horst.de
SUMMARY:Zeitreise im Schloss Horst
DESCRIPTION:An jedem ersten Donnerstag des Monats ist das Erlebnismuseum der Ausgangspunkt für eine spannende Führung durch die 450 Jahre alte Geschichte des Schlosses. Unter fachkundiger Leitung erleben Sie Einblicke in die Welt der Handwerker\, Pächter aber auch der adligen Bewohner des Hauses. \nSchloss Horst\, Treffpunkt Glashalle \nBehindertengerecht \nDie „Reise“ beginnt um 18:00 Uhr\, dauert etwa eine Stunde und ist kostenfrei. Eine Anmeldung ist nicht erforderlich. \n(0209) 169 – 6131 \nschloss.horst@gelsenkirchen.de \n©
URL:https://www.schloss-horst.de/veranstaltung/zeitreise-im-schloss-horst-9/
LOCATION:Museum Schloss Horst
ORGANIZER;CN="Erlebnismuseum Schloss Horst in Kooperation mit dem KBZ Schloss Horst und dem F%C3%B6rderverein Schlo%C3%9F Horst e.V.":MAILTO:doerte.rotthauwe@gelsenkirchen.de
END:VEVENT
BEGIN:VEVENT
DTSTART;TZID=Europe/Berlin:20250809T190000
DTEND;TZID=Europe/Berlin:20250809T210000
DTSTAMP:20260424T212201
CREATED:20250713T164358Z
LAST-MODIFIED:20250713T164358Z
UID:1466-1754766000-1754773200@www.schloss-horst.de
SUMMARY:Filmschauplätze NRW - Musik vorm Schloss
DESCRIPTION:Bei der beliebten Open-Air-Reihe FilmSchauPlätze NRW gestaltet caterva musica zwei Kurzkonzerte vor dem Filmprogramm. \n 
URL:https://www.schloss-horst.de/veranstaltung/filmschauplaetze-nrw-musik-vorm-schloss/
LOCATION:Schloss und Außengelände
END:VEVENT
BEGIN:VEVENT
DTSTART;TZID=Europe/Berlin:20250813T100000
DTEND;TZID=Europe/Berlin:20250813T130000
DTSTAMP:20260424T212201
CREATED:20250616T131625Z
LAST-MODIFIED:20250616T142831Z
UID:1428-1755079200-1755090000@www.schloss-horst.de
SUMMARY:Sommerferien im Erlebnismuseum Schloss Horst
DESCRIPTION:Kinder zwischen 6 und 10 Jahren erkunden in einem Workshop von 10 bis 13 Uhr spielerisch das Museum und modellieren anschließend mit Ton Spielzeug-Murmeln und/oder faustgroße Tiere wie Mäuschen oder Enten\, die zuvor im Museum entdeckt werden konnten. \nSelbstverständlich machen wir eine kleine Snackpause. Dafür bringst du dir etwas leckeres zu Essen mit. \nFür Kinder im Alter von 6 bis 10 Jahren. Da nur eine begrenzte Zahl von Kindern teilnehmen können\, bitten wir um Anmeldung unter unter 0209 – 169 6131. \nschloss.horst@gelsenkirchen.de \n© Lokomotiv-Fotografie
URL:https://www.schloss-horst.de/veranstaltung/sommerferien-im-erlebnismuseum-schloss-horst/
LOCATION:Glashalle behindertengerecht\, Turfstraße 21\, Gelsenkirchen\, 45899\, Deutschland
ORGANIZER;CN="Erlebnismuseum Schloss Horst in Kooperation mit dem KBZ Schloss Horst und dem F%C3%B6rderverein Schlo%C3%9F Horst e.V.":MAILTO:doerte.rotthauwe@gelsenkirchen.de
END:VEVENT
BEGIN:VEVENT
DTSTART;TZID=Europe/Berlin:20250827T183000
DTEND;TZID=Europe/Berlin:20250827T220000
DTSTAMP:20260424T212201
CREATED:20250616T132751Z
LAST-MODIFIED:20250616T133023Z
UID:1431-1756319400-1756332000@www.schloss-horst.de
SUMMARY:"Ein Irgendwo von dazumal". Mascha Kaléko mit Kriszti Kiss
DESCRIPTION:Die deutsch-jüdische Schriftstellerin Mascha Kaléko ist eine überaus vielschichtige Autorin\, in deren Texten sich ein traumatisches Stück Zeitgeschichte spiegelt\, das sie vor allem in Gedichten und Liedern\, aber auch in Prosatexten verarbeitet hat. In Galizien 1907 geboren\, fand sie nach Schul- und Studienjahren in Berlin Anschluss an die literarische Bohème vor allem des Romanischen Cafés. Sie veröffentlichte regelmäßig Gebrauchslyrik in der „Vossischen Zeitung“ und hatte Kontakt mit namhaften Autoren des Berliner Kabaretts\, aber auch mit Albert Einstein\, Thomas Mann\, Erich Kästner und Alfred Polgar\, die die Verse der jungen Großstadtdichterin schätzten. Mascha Kaléko emigrierte 1938 in die USA und ging schließlich nach Israel. Sie starb 1975 in Zürich.\nDie aus alltäglichen Erfahrungen geschöpften Texte dieser außergewöhnlichen Frau sind voller verspieltem Humor\, Lebensfreude und Optimismus\, aber auch durchdrungen von Sarkasmus und Bitterkeit. Sie spiegeln in ihren wechselnden Stimmungen auch die politischen Bedingungen\, unter denen sie entstanden.\nKriszti Kiss berührt in diesem Programm in ihrer Textauswahl viele literarische Facetten einer Autorin\, die es zu entdecken lohnt.\nKriszti Kiss erhielt ihr Schauspiel-Diplom an der renommierten Staatlichen Hochschule für Schauspielkünste in Budapest\, ihrer Heimatstadt. Sie lebt seit mehr als dreißig Jahren in Dortmund und arbeitet seither als Schauspielerin an vielen namhaften Bühnen\, in freien Produktionen sowie als Kabarettistin und Chansonsängerin. \nBeginn: 19:00 Uhr \nMelange – Literarische Gesellschaft zur Förderung der Kaffeehauskultur e.V. in Kooperation mit der Stadtbibliothek Gelsenkirchen und dem KBZ Schloss Horst \nMelange e.V.\, Tel. 0231/4775981\, info@melange-im-netz.de \ninfo@melange-im-netz.de \n© Leslie Sternenfeld
URL:https://www.schloss-horst.de/veranstaltung/ein-irgendwo-von-dazumal-mascha-kaleko-mit-kriszti-kiss/
LOCATION:Glashalle behindertengerecht\, Turfstraße 21\, Gelsenkirchen\, 45899\, Deutschland
END:VEVENT
END:VCALENDAR