BEGIN:VCALENDAR
VERSION:2.0
PRODID:-//Förderverein Schloß Horst e.V. - ECPv6.15.11//NONSGML v1.0//EN
CALSCALE:GREGORIAN
METHOD:PUBLISH
X-WR-CALNAME:Förderverein Schloß Horst e.V.
X-ORIGINAL-URL:https://www.schloss-horst.de
X-WR-CALDESC:Veranstaltungen für Förderverein Schloß Horst e.V.
REFRESH-INTERVAL;VALUE=DURATION:PT1H
X-Robots-Tag:noindex
X-PUBLISHED-TTL:PT1H
BEGIN:VTIMEZONE
TZID:Europe/Berlin
BEGIN:DAYLIGHT
TZOFFSETFROM:+0100
TZOFFSETTO:+0200
TZNAME:CEST
DTSTART:20240331T010000
END:DAYLIGHT
BEGIN:STANDARD
TZOFFSETFROM:+0200
TZOFFSETTO:+0100
TZNAME:CET
DTSTART:20241027T010000
END:STANDARD
BEGIN:DAYLIGHT
TZOFFSETFROM:+0100
TZOFFSETTO:+0200
TZNAME:CEST
DTSTART:20250330T010000
END:DAYLIGHT
BEGIN:STANDARD
TZOFFSETFROM:+0200
TZOFFSETTO:+0100
TZNAME:CET
DTSTART:20251026T010000
END:STANDARD
BEGIN:DAYLIGHT
TZOFFSETFROM:+0100
TZOFFSETTO:+0200
TZNAME:CEST
DTSTART:20260329T010000
END:DAYLIGHT
BEGIN:STANDARD
TZOFFSETFROM:+0200
TZOFFSETTO:+0100
TZNAME:CET
DTSTART:20261025T010000
END:STANDARD
END:VTIMEZONE
BEGIN:VEVENT
DTSTART;TZID=Europe/Berlin:20250703T173000
DTEND;TZID=Europe/Berlin:20250703T190000
DTSTAMP:20260424T225329
CREATED:20250616T125154Z
LAST-MODIFIED:20250616T130237Z
UID:1423-1751563800-1751569200@www.schloss-horst.de
SUMMARY:Zeitreise im Schloss Horst
DESCRIPTION:An jedem ersten Donnerstag des Monats ist das Erlebnismuseum der Ausgangspunkt für eine spannende Führung durch die 450 Jahre alte Geschichte des Schlosses. Unter fachkundiger Leitung erleben Sie Einblicke in die Welt der Handwerker\, Pächter aber auch der adligen Bewohner des Hauses. \nSchloss Horst\, Treffpunkt Glashalle \nBehindertengerecht \nDie „Reise“ beginnt um 18:00 Uhr\, dauert etwa eine Stunde und ist kostenfrei. Eine Anmeldung ist nicht erforderlich. \n(0209) 169 – 6131 \nschloss.horst@gelsenkirchen.de \n©
URL:https://www.schloss-horst.de/veranstaltung/zeitreise-im-schloss-horst-8/
LOCATION:Museum Schloss Horst
ORGANIZER;CN="Erlebnismuseum Schloss Horst in Kooperation mit dem KBZ Schloss Horst und dem F%C3%B6rderverein Schlo%C3%9F Horst e.V.":MAILTO:doerte.rotthauwe@gelsenkirchen.de
END:VEVENT
END:VCALENDAR