BEGIN:VCALENDAR
VERSION:2.0
PRODID:-//Förderverein Schloß Horst e.V. - ECPv6.15.11//NONSGML v1.0//EN
CALSCALE:GREGORIAN
METHOD:PUBLISH
X-WR-CALNAME:Förderverein Schloß Horst e.V.
X-ORIGINAL-URL:https://www.schloss-horst.de
X-WR-CALDESC:Veranstaltungen für Förderverein Schloß Horst e.V.
REFRESH-INTERVAL;VALUE=DURATION:PT1H
X-Robots-Tag:noindex
X-PUBLISHED-TTL:PT1H
BEGIN:VTIMEZONE
TZID:Europe/Berlin
BEGIN:DAYLIGHT
TZOFFSETFROM:+0100
TZOFFSETTO:+0200
TZNAME:CEST
DTSTART:20250330T010000
END:DAYLIGHT
BEGIN:STANDARD
TZOFFSETFROM:+0200
TZOFFSETTO:+0100
TZNAME:CET
DTSTART:20251026T010000
END:STANDARD
BEGIN:DAYLIGHT
TZOFFSETFROM:+0100
TZOFFSETTO:+0200
TZNAME:CEST
DTSTART:20260329T010000
END:DAYLIGHT
BEGIN:STANDARD
TZOFFSETFROM:+0200
TZOFFSETTO:+0100
TZNAME:CET
DTSTART:20261025T010000
END:STANDARD
BEGIN:DAYLIGHT
TZOFFSETFROM:+0100
TZOFFSETTO:+0200
TZNAME:CEST
DTSTART:20270328T010000
END:DAYLIGHT
BEGIN:STANDARD
TZOFFSETFROM:+0200
TZOFFSETTO:+0100
TZNAME:CET
DTSTART:20271031T010000
END:STANDARD
END:VTIMEZONE
BEGIN:VEVENT
DTSTART;TZID=Europe/Berlin:20260401T190000
DTEND;TZID=Europe/Berlin:20260401T190000
DTSTAMP:20260424T083043
CREATED:20260211T162439Z
LAST-MODIFIED:20260211T162515Z
UID:1591-1775070000-1775070000@www.schloss-horst.de
SUMMARY:Sherlock Holmes. Murder & Moor
DESCRIPTION:Melange im Schloss Live-Hörspiel mit Stefan Keim \nDer monströse Hund von Baskerville mordet im Moor. Meisterdetektiv Sherlock Holmes und sein treuer Begleiter Dr. Watson begeben sich auf gefährliche Spurensuche. Verwickelt sind die Fälle\, fast perfekt die Verbrechen\, doch mit scharfem Verstand und genauer Beobachtung löst Holmes auch die verzwicktesten Fälle. Sehr frei nach Arthur Conan Doyle unternimmt der Kulturjournalist und Schauspieler Stefan Keim eine Reise ins Herz der fröhlichen Finsternis. Zwischen feinem Grusel und absurdem Humor bewegt sich das Live-Hörspiel\, bei dem sich der Rezitator mit seinem Keyboard selbst begleitet. Eine junge Frau wird zur Millionenerbin\, aber finstere Gestalten sind hinter ihrem Reichtum her. Ein Einbeiniger flößt seinen Opfern panische Angst ein\, vergiftete Dornen sirren durch die Luft. Holmes bietet sein ganzes Können auf\, doch der Mörder scheint ihm diesmal durch die Lappen zu gehen. Oder verbirgt sich hinter dem Mann mit dem Holzbein ein weitaus schrecklicheres Geheimnis? Auch das skurrile Privatleben der beiden Detektive gerät ins Blickfeld. Die Männer-WG in der Baker Street bringt durchaus Konflikte hervor\, zum Beispiel wenn Holmes sich gelangweilt in den Kokainrausch flüchtet und Dr. Watson sich plötzlich und unerwartet in eine Klientin verliebt. Mit hintergründiger Ironie und britischem Understatement bringt Stefan Keim den größten Detektiv der Welt wieder zum Leben. „Murder & Moor“ bietet Spaß und Spannung und ist eine herzblutvolle Hommage an Sherlock Holmes und Dr. Watson.“ Es ist eine wahre Freude\, ihm zuzuhören! Stefan Keim produziert mit seinem Keyboard allerlei Geräusche und Melodien. Dazu spricht er verschiedene Rollen in ganz eigenen Stimmfärbungen – und das mit einem Volumen\, das den überraschten Gästen auch mal einen Schrecken einjagt. Ihm gelang es\, sowohl mit seiner temporeichen Erzählung als auch mit seiner starken Bühnenpräsenz alle Zuhörer in seinen Bann zu ziehen“ (Ruhrnachrichten\, Dortmund).Stefan Keim ist Autor\, Journalist\, Moderator und Schauspieler. Seine kabarettistischen Auftritte führten ihn zu über hundert verschiedenen Kleinkunst-Bühnen im gesamten Bundesgebiet.
URL:https://www.schloss-horst.de/veranstaltung/sherlock-holmes-murder-moor/
LOCATION:Glashalle behindertengerecht\, Turfstraße 21\, Gelsenkirchen\, 45899\, Deutschland
END:VEVENT
END:VCALENDAR