BEGIN:VCALENDAR
VERSION:2.0
PRODID:-//Förderverein Schloß Horst e.V. - ECPv6.15.11//NONSGML v1.0//EN
CALSCALE:GREGORIAN
METHOD:PUBLISH
X-ORIGINAL-URL:https://www.schloss-horst.de
X-WR-CALDESC:Veranstaltungen für Förderverein Schloß Horst e.V.
REFRESH-INTERVAL;VALUE=DURATION:PT1H
X-Robots-Tag:noindex
X-PUBLISHED-TTL:PT1H
BEGIN:VTIMEZONE
TZID:Europe/Berlin
BEGIN:DAYLIGHT
TZOFFSETFROM:+0100
TZOFFSETTO:+0200
TZNAME:CEST
DTSTART:20250330T010000
END:DAYLIGHT
BEGIN:STANDARD
TZOFFSETFROM:+0200
TZOFFSETTO:+0100
TZNAME:CET
DTSTART:20251026T010000
END:STANDARD
BEGIN:DAYLIGHT
TZOFFSETFROM:+0100
TZOFFSETTO:+0200
TZNAME:CEST
DTSTART:20260329T010000
END:DAYLIGHT
BEGIN:STANDARD
TZOFFSETFROM:+0200
TZOFFSETTO:+0100
TZNAME:CET
DTSTART:20261025T010000
END:STANDARD
BEGIN:DAYLIGHT
TZOFFSETFROM:+0100
TZOFFSETTO:+0200
TZNAME:CEST
DTSTART:20270328T010000
END:DAYLIGHT
BEGIN:STANDARD
TZOFFSETFROM:+0200
TZOFFSETTO:+0100
TZNAME:CET
DTSTART:20271031T010000
END:STANDARD
END:VTIMEZONE
BEGIN:VEVENT
DTSTART;TZID=Europe/Berlin:20260307T180000
DTEND;TZID=Europe/Berlin:20260307T180000
DTSTAMP:20260424T100635
CREATED:20260215T145104Z
LAST-MODIFIED:20260215T155638Z
UID:1616-1772906400-1772906400@www.schloss-horst.de
SUMMARY:Das Meinhard Siegel Trio+
DESCRIPTION:© Meinhard Siegel\nKonzert auf Schloss Horst \nAuch in diesem Jahr ist das Meinhard Siegel Trio+ zu Gast auf Schloss Horst. Seit vielen Jahren präsentieren die vier Musiker hier ihr aktuelles Programm. Im letzten\, dem Jubiläumsjahr hatte sich die Band eine Reihe von musikalischen Gästen eingeladen. Das wird in diesem Jahr anders sein. Das Motto des Konzertes lautet: \n„Alles auf Anfang“. \nDenn seit drei Jahren spielt die Band krankheitsbedingt mit Roland Staege als ständige Vertretung am Bass. Doch jetzt ist Theo Giebels wieder fit genug wenigstens das halbe Konzert zu bestreiten. So werden die beiden Bassisten sich das Konzert kollegial teilen. \nDie restliche Besetzung der Band ist auch im 26. Jahr gleich: Bandleader Meinhard Siegel steuert alle Kompositionen bei und sitzt am Piano\, Heribert Horstig an der Gitarre und Andreas Küster am Schlagzeug. \nReservierungen am besten per Mail an: \nmeinhard-siegel@t-online.de \nKonzertbeginn: 19:00 Uhr (Einlass ab 18:00 Uhr) \n© Meinhard Siegel\nDas Meinhard Siegel Trio+ \nMeinhard Siegel Piano\nHeribert Horstig Gitarre\nTheo Giebels Bass\nRoland Staege Bass\nAndreas Küster Drum \n  \n 
URL:https://www.schloss-horst.de/veranstaltung/das-meinhard-siegel-trio/
LOCATION:Glashalle behindertengerecht\, Turfstraße 21\, Gelsenkirchen\, 45899\, Deutschland
END:VEVENT
END:VCALENDAR