BEGIN:VCALENDAR
VERSION:2.0
PRODID:-//Förderverein Schloß Horst e.V. - ECPv6.15.11//NONSGML v1.0//EN
CALSCALE:GREGORIAN
METHOD:PUBLISH
X-ORIGINAL-URL:https://www.schloss-horst.de
X-WR-CALDESC:Veranstaltungen für Förderverein Schloß Horst e.V.
REFRESH-INTERVAL;VALUE=DURATION:PT1H
X-Robots-Tag:noindex
X-PUBLISHED-TTL:PT1H
BEGIN:VTIMEZONE
TZID:Europe/Berlin
BEGIN:DAYLIGHT
TZOFFSETFROM:+0100
TZOFFSETTO:+0200
TZNAME:CEST
DTSTART:20250330T010000
END:DAYLIGHT
BEGIN:STANDARD
TZOFFSETFROM:+0200
TZOFFSETTO:+0100
TZNAME:CET
DTSTART:20251026T010000
END:STANDARD
BEGIN:DAYLIGHT
TZOFFSETFROM:+0100
TZOFFSETTO:+0200
TZNAME:CEST
DTSTART:20260329T010000
END:DAYLIGHT
BEGIN:STANDARD
TZOFFSETFROM:+0200
TZOFFSETTO:+0100
TZNAME:CET
DTSTART:20261025T010000
END:STANDARD
BEGIN:DAYLIGHT
TZOFFSETFROM:+0100
TZOFFSETTO:+0200
TZNAME:CEST
DTSTART:20270328T010000
END:DAYLIGHT
BEGIN:STANDARD
TZOFFSETFROM:+0200
TZOFFSETTO:+0100
TZNAME:CET
DTSTART:20271031T010000
END:STANDARD
END:VTIMEZONE
BEGIN:VEVENT
DTSTART;TZID=Europe/Berlin:20260215T180000
DTEND;TZID=Europe/Berlin:20260215T180000
DTSTAMP:20260424T115227
CREATED:20260207T152644Z
LAST-MODIFIED:20260207T153356Z
UID:1588-1771178400-1771178400@www.schloss-horst.de
SUMMARY:Der Streit des Karnevals mit der Fasten
DESCRIPTION:Ein Konzert für alle\, die an diesem Wochenende einmal durchatmen möchten. \n\nKarneval ist laut.Dieser Sonntag erzählt eine andere Geschichte. \nDas Programm führt in eine Zeit nach dem Dreißigjährigen Krieg\,in der Musik zwischen Ausgelassenheit und innerer Einkehr pendelt. \nTänze\, die einst zum Karneval gehörten –und Klänge\, die bereits die Fastenzeit ahnen lassen. \nMusik zum Zuhören.Ein ruhiger Gegenpol zum Karnevalswochenende. \nZur besseren Planung freuen wir uns bei grundsätzlichem Interesseüber eine kurze Rückmeldung unter: fabri@caterva-musica.de
URL:https://www.schloss-horst.de/veranstaltung/der-streit-des-karnevals-mit-der-fasten/
LOCATION:Glashalle behindertengerecht\, Turfstraße 21\, Gelsenkirchen\, 45899\, Deutschland
ORGANIZER;CN="caterva musica":MAILTO:info@caterva-musica.de
END:VEVENT
END:VCALENDAR