BEGIN:VCALENDAR
VERSION:2.0
PRODID:-//Förderverein Schloß Horst e.V. - ECPv6.15.11//NONSGML v1.0//EN
CALSCALE:GREGORIAN
METHOD:PUBLISH
X-WR-CALNAME:Förderverein Schloß Horst e.V.
X-ORIGINAL-URL:https://www.schloss-horst.de
X-WR-CALDESC:Veranstaltungen für Förderverein Schloß Horst e.V.
REFRESH-INTERVAL;VALUE=DURATION:PT1H
X-Robots-Tag:noindex
X-PUBLISHED-TTL:PT1H
BEGIN:VTIMEZONE
TZID:Europe/Berlin
BEGIN:DAYLIGHT
TZOFFSETFROM:+0100
TZOFFSETTO:+0200
TZNAME:CEST
DTSTART:20250330T010000
END:DAYLIGHT
BEGIN:STANDARD
TZOFFSETFROM:+0200
TZOFFSETTO:+0100
TZNAME:CET
DTSTART:20251026T010000
END:STANDARD
BEGIN:DAYLIGHT
TZOFFSETFROM:+0100
TZOFFSETTO:+0200
TZNAME:CEST
DTSTART:20260329T010000
END:DAYLIGHT
BEGIN:STANDARD
TZOFFSETFROM:+0200
TZOFFSETTO:+0100
TZNAME:CET
DTSTART:20261025T010000
END:STANDARD
BEGIN:DAYLIGHT
TZOFFSETFROM:+0100
TZOFFSETTO:+0200
TZNAME:CEST
DTSTART:20270328T010000
END:DAYLIGHT
BEGIN:STANDARD
TZOFFSETFROM:+0200
TZOFFSETTO:+0100
TZNAME:CET
DTSTART:20271031T010000
END:STANDARD
END:VTIMEZONE
BEGIN:VEVENT
DTSTART;TZID=Europe/Berlin:20260205T180000
DTEND;TZID=Europe/Berlin:20260205T180000
DTSTAMP:20260424T114723
CREATED:20251217T171532Z
LAST-MODIFIED:20251217T171658Z
UID:1563-1770314400-1770314400@www.schloss-horst.de
SUMMARY:Zeitreise im Schloss Horst
DESCRIPTION:An jedem ersten Donnerstag des Monats ist das Erlebnismuseum der\nAusgangspunkt für eine spannende Führung durch die 450 Jahre alte\nGeschichte des Schlosses. Unter fachkundiger Leitung erleben Sie\nEinblicke in die Welt der Handwerker\, Pächter aber auch der adligen\nBewohner des Hauses. \nTreffpunkt: Glashalle Schloss Horst \nDie „Reise“ dauert etwa eine Stunde und ist kostenfrei.\nEine Anmeldung ist nicht erforderlich. \nWeitere Informationen:\nTel: 0209/1696131\nschloss.horst@gelsenkirchen.de
URL:https://www.schloss-horst.de/veranstaltung/zeitreise-im-schloss-horst-12/
LOCATION:Glashalle behindertengerecht\, Turfstraße 21\, Gelsenkirchen\, 45899\, Deutschland
END:VEVENT
END:VCALENDAR