BEGIN:VCALENDAR
VERSION:2.0
PRODID:-//Förderverein Schloß Horst e.V. - ECPv6.15.11//NONSGML v1.0//EN
CALSCALE:GREGORIAN
METHOD:PUBLISH
X-WR-CALNAME:Förderverein Schloß Horst e.V.
X-ORIGINAL-URL:https://www.schloss-horst.de
X-WR-CALDESC:Veranstaltungen für Förderverein Schloß Horst e.V.
REFRESH-INTERVAL;VALUE=DURATION:PT1H
X-Robots-Tag:noindex
X-PUBLISHED-TTL:PT1H
BEGIN:VTIMEZONE
TZID:Europe/Berlin
BEGIN:DAYLIGHT
TZOFFSETFROM:+0100
TZOFFSETTO:+0200
TZNAME:CEST
DTSTART:20250330T010000
END:DAYLIGHT
BEGIN:STANDARD
TZOFFSETFROM:+0200
TZOFFSETTO:+0100
TZNAME:CET
DTSTART:20251026T010000
END:STANDARD
BEGIN:DAYLIGHT
TZOFFSETFROM:+0100
TZOFFSETTO:+0200
TZNAME:CEST
DTSTART:20260329T010000
END:DAYLIGHT
BEGIN:STANDARD
TZOFFSETFROM:+0200
TZOFFSETTO:+0100
TZNAME:CET
DTSTART:20261025T010000
END:STANDARD
BEGIN:DAYLIGHT
TZOFFSETFROM:+0100
TZOFFSETTO:+0200
TZNAME:CEST
DTSTART:20270328T010000
END:DAYLIGHT
BEGIN:STANDARD
TZOFFSETFROM:+0200
TZOFFSETTO:+0100
TZNAME:CET
DTSTART:20271031T010000
END:STANDARD
END:VTIMEZONE
BEGIN:VEVENT
DTSTART;TZID=Europe/Berlin:20260116T180000
DTEND;TZID=Europe/Berlin:20260116T180000
DTSTAMP:20260424T134524
CREATED:20260104T130427Z
LAST-MODIFIED:20260104T130627Z
UID:1576-1768586400-1768586400@www.schloss-horst.de
SUMMARY:Renaissance-Spiele gemeinsam ausprobieren - Eintritt frei
DESCRIPTION:Freitagabend wie vor 450 Jahren…. \nSpielen\, staunen\, mitmachen! \nErleben Sie einen außergewöhnlichen Abend im Schloss Horst und entdecken Sie historische Spiele der Renaissance zum Anfassen und Ausprobieren. \nOb bei historischen Kartenspielen\, dem Bau der Davinici-Brücke oder dem Bogenschießen für Kinder und vielem mehr. \nEin Erlebnis für Neugierige\, Geschichtsbegeisterte und alle\, die Lust auf etwas Besonderes haben. \nTreffpunkt: Glashalle
URL:https://www.schloss-horst.de/veranstaltung/renaissance-spiele-gemeinsam-ausprobieren/
LOCATION:Glashalle behindertengerecht\, Turfstraße 21\, Gelsenkirchen\, 45899\, Deutschland
ORGANIZER;CN="F%C3%B6rderverein Schlo%C3%9F Horst e. V.":MAILTO:FVSH@schloss-horst.de
END:VEVENT
END:VCALENDAR