BEGIN:VCALENDAR
VERSION:2.0
PRODID:-//Förderverein Schloß Horst e.V. - ECPv6.15.11//NONSGML v1.0//EN
CALSCALE:GREGORIAN
METHOD:PUBLISH
X-ORIGINAL-URL:https://www.schloss-horst.de
X-WR-CALDESC:Veranstaltungen für Förderverein Schloß Horst e.V.
REFRESH-INTERVAL;VALUE=DURATION:PT1H
X-Robots-Tag:noindex
X-PUBLISHED-TTL:PT1H
BEGIN:VTIMEZONE
TZID:Europe/Berlin
BEGIN:DAYLIGHT
TZOFFSETFROM:+0100
TZOFFSETTO:+0200
TZNAME:CEST
DTSTART:20240331T010000
END:DAYLIGHT
BEGIN:STANDARD
TZOFFSETFROM:+0200
TZOFFSETTO:+0100
TZNAME:CET
DTSTART:20241027T010000
END:STANDARD
BEGIN:DAYLIGHT
TZOFFSETFROM:+0100
TZOFFSETTO:+0200
TZNAME:CEST
DTSTART:20250330T010000
END:DAYLIGHT
BEGIN:STANDARD
TZOFFSETFROM:+0200
TZOFFSETTO:+0100
TZNAME:CET
DTSTART:20251026T010000
END:STANDARD
BEGIN:DAYLIGHT
TZOFFSETFROM:+0100
TZOFFSETTO:+0200
TZNAME:CEST
DTSTART:20260329T010000
END:DAYLIGHT
BEGIN:STANDARD
TZOFFSETFROM:+0200
TZOFFSETTO:+0100
TZNAME:CET
DTSTART:20261025T010000
END:STANDARD
END:VTIMEZONE
BEGIN:VEVENT
DTSTART;TZID=Europe/Berlin:20251123T100000
DTEND;TZID=Europe/Berlin:20251123T170000
DTSTAMP:20260424T171009
CREATED:20251011T185952Z
LAST-MODIFIED:20251011T185956Z
UID:1527-1763892000-1763917200@www.schloss-horst.de
SUMMARY:POTT Phantastika - Die Buchmesse für Phantastikfreunde
DESCRIPTION:Die POTT Phantastika ist eine Buchmesse im Ruhrgebiet\, die sich auf\nFantasy und Science Fiction Literatur fokussiert. Liebhaber*innen von\nmystischen Kreaturen\, abenteuerlichen Schauplätzen\, fremden und\nmagischen Welten kommen hier auf ihre Kosten. \nDer Eintritt ist kostenfrei. \npott.phantastika@web.de\nhttp://www.pott-phantastika.de/
URL:https://www.schloss-horst.de/veranstaltung/pott-phantastika-die-buchmesse-fuer-phantastikfreunde-2/
LOCATION:Glashalle behindertengerecht\, Turfstraße 21\, Gelsenkirchen\, 45899\, Deutschland
ORGANIZER;CN="Karsten Zingst in Kooperation mit KBZ Schloss Horst":MAILTO:pott.phantastika@web.de
END:VEVENT
END:VCALENDAR