BEGIN:VCALENDAR
VERSION:2.0
PRODID:-//Förderverein Schloß Horst e.V. - ECPv6.15.11//NONSGML v1.0//EN
CALSCALE:GREGORIAN
METHOD:PUBLISH
X-WR-CALNAME:Förderverein Schloß Horst e.V.
X-ORIGINAL-URL:https://www.schloss-horst.de
X-WR-CALDESC:Veranstaltungen für Förderverein Schloß Horst e.V.
REFRESH-INTERVAL;VALUE=DURATION:PT1H
X-Robots-Tag:noindex
X-PUBLISHED-TTL:PT1H
BEGIN:VTIMEZONE
TZID:Europe/Berlin
BEGIN:DAYLIGHT
TZOFFSETFROM:+0100
TZOFFSETTO:+0200
TZNAME:CEST
DTSTART:20240331T010000
END:DAYLIGHT
BEGIN:STANDARD
TZOFFSETFROM:+0200
TZOFFSETTO:+0100
TZNAME:CET
DTSTART:20241027T010000
END:STANDARD
BEGIN:DAYLIGHT
TZOFFSETFROM:+0100
TZOFFSETTO:+0200
TZNAME:CEST
DTSTART:20250330T010000
END:DAYLIGHT
BEGIN:STANDARD
TZOFFSETFROM:+0200
TZOFFSETTO:+0100
TZNAME:CET
DTSTART:20251026T010000
END:STANDARD
BEGIN:DAYLIGHT
TZOFFSETFROM:+0100
TZOFFSETTO:+0200
TZNAME:CEST
DTSTART:20260329T010000
END:DAYLIGHT
BEGIN:STANDARD
TZOFFSETFROM:+0200
TZOFFSETTO:+0100
TZNAME:CET
DTSTART:20261025T010000
END:STANDARD
END:VTIMEZONE
BEGIN:VEVENT
DTSTART;TZID=Europe/Berlin:20251121T180000
DTEND;TZID=Europe/Berlin:20251121T180000
DTSTAMP:20260424T170816
CREATED:20251012T152030Z
LAST-MODIFIED:20251012T152133Z
UID:1537-1763748000-1763748000@www.schloss-horst.de
SUMMARY:Renaissance-Abend
DESCRIPTION:An diesem Abend treffen wir uns im Restaurant Gewölbe.\nIn gemütlicher Runde wollen wir gemeinsam das Jahr revue passieren lassen und Ideen für das kommende Jahr sammeln. \nWir freuen uns über alle Interessierten.\nSie müssen kein Mitglied des Fördervereins sein\, um an den Veranstaltungen teilnehmen zu können. \nKontakt: 0176/34927741
URL:https://www.schloss-horst.de/veranstaltung/renaissance-abend/
LOCATION:Restaurant Gewölbe\, Turfstraße 21\, Gelsenkirchen-West\, Deutschland\, Gelsenkirchen\, 45899\, Germany
ORGANIZER;CN="F%C3%B6rderverein Schlo%C3%9F Horst e. V.":MAILTO:FVSH@schloss-horst.de
END:VEVENT
END:VCALENDAR