BEGIN:VCALENDAR
VERSION:2.0
PRODID:-//Förderverein Schloß Horst e.V. - ECPv6.15.11//NONSGML v1.0//EN
CALSCALE:GREGORIAN
METHOD:PUBLISH
X-ORIGINAL-URL:https://www.schloss-horst.de
X-WR-CALDESC:Veranstaltungen für Förderverein Schloß Horst e.V.
REFRESH-INTERVAL;VALUE=DURATION:PT1H
X-Robots-Tag:noindex
X-PUBLISHED-TTL:PT1H
BEGIN:VTIMEZONE
TZID:Europe/Berlin
BEGIN:DAYLIGHT
TZOFFSETFROM:+0100
TZOFFSETTO:+0200
TZNAME:CEST
DTSTART:20240331T010000
END:DAYLIGHT
BEGIN:STANDARD
TZOFFSETFROM:+0200
TZOFFSETTO:+0100
TZNAME:CET
DTSTART:20241027T010000
END:STANDARD
BEGIN:DAYLIGHT
TZOFFSETFROM:+0100
TZOFFSETTO:+0200
TZNAME:CEST
DTSTART:20250330T010000
END:DAYLIGHT
BEGIN:STANDARD
TZOFFSETFROM:+0200
TZOFFSETTO:+0100
TZNAME:CET
DTSTART:20251026T010000
END:STANDARD
BEGIN:DAYLIGHT
TZOFFSETFROM:+0100
TZOFFSETTO:+0200
TZNAME:CEST
DTSTART:20260329T010000
END:DAYLIGHT
BEGIN:STANDARD
TZOFFSETFROM:+0200
TZOFFSETTO:+0100
TZNAME:CET
DTSTART:20261025T010000
END:STANDARD
END:VTIMEZONE
BEGIN:VEVENT
DTSTART;TZID=Europe/Berlin:20251115T190000
DTEND;TZID=Europe/Berlin:20251115T190000
DTSTAMP:20260424T173337
CREATED:20251011T185129Z
LAST-MODIFIED:20251011T185238Z
UID:1523-1763233200-1763233200@www.schloss-horst.de
SUMMARY:Vierte Auflage vom „Rock im Schloss“ mit The Servants
DESCRIPTION:Glashalle im Schloss-Horst wird zum Rockpalast\n  \nBald ist es soweit\, dann können sich Rock- und Oldie Fans wieder auf eine heiße Rocknacht im Schloss Horst freuen. Die Glashalle verwandelt sich an diesem\nSamstag in einen pulsierenden Rockpalast\, der die legendären Klänge der 70er und 80er Jahre wieder aufleben lässt. Mit der heimischen Kultband The\nServants\, die zum vierten Mal bei „Rock im Schloss“ auftritt\, wird es eine Nacht voller Nostalgie und kraftvoller Riffs.\nThe Servants\, 1966 in Gelsenkirchen gegründet\, sind das Urgestein der lokalen Rockszene und bringen die Mainstreet der Rockgeschichte zurück\, mit Hits\, die einst die Welt eroberten. \nonline: Eventim-Light\nTextilhaus Strickling\, Essener Str. 4\, 45899 Gelsenkirchen\, 0209/ 55562 \nTicket-Hotline 0177-6883594\npost@theservants.de\nhttp://www.theservants.de/rock-im-schloss\nBernhard Wedding
URL:https://www.schloss-horst.de/veranstaltung/vierte-auflage-vom-rock-im-schloss-mit-the-servants/
LOCATION:Glashalle behindertengerecht\, Turfstraße 21\, Gelsenkirchen\, 45899\, Deutschland
ORGANIZER;CN="The Servants":MAILTO:post@theservants.de
END:VEVENT
END:VCALENDAR