BEGIN:VCALENDAR
VERSION:2.0
PRODID:-//Förderverein Schloß Horst e.V. - ECPv6.15.11//NONSGML v1.0//EN
CALSCALE:GREGORIAN
METHOD:PUBLISH
X-WR-CALNAME:Förderverein Schloß Horst e.V.
X-ORIGINAL-URL:https://www.schloss-horst.de
X-WR-CALDESC:Veranstaltungen für Förderverein Schloß Horst e.V.
REFRESH-INTERVAL;VALUE=DURATION:PT1H
X-Robots-Tag:noindex
X-PUBLISHED-TTL:PT1H
BEGIN:VTIMEZONE
TZID:Europe/Berlin
BEGIN:DAYLIGHT
TZOFFSETFROM:+0100
TZOFFSETTO:+0200
TZNAME:CEST
DTSTART:20240331T010000
END:DAYLIGHT
BEGIN:STANDARD
TZOFFSETFROM:+0200
TZOFFSETTO:+0100
TZNAME:CET
DTSTART:20241027T010000
END:STANDARD
BEGIN:DAYLIGHT
TZOFFSETFROM:+0100
TZOFFSETTO:+0200
TZNAME:CEST
DTSTART:20250330T010000
END:DAYLIGHT
BEGIN:STANDARD
TZOFFSETFROM:+0200
TZOFFSETTO:+0100
TZNAME:CET
DTSTART:20251026T010000
END:STANDARD
BEGIN:DAYLIGHT
TZOFFSETFROM:+0100
TZOFFSETTO:+0200
TZNAME:CEST
DTSTART:20260329T010000
END:DAYLIGHT
BEGIN:STANDARD
TZOFFSETFROM:+0200
TZOFFSETTO:+0100
TZNAME:CET
DTSTART:20261025T010000
END:STANDARD
END:VTIMEZONE
BEGIN:VEVENT
DTSTART;TZID=Europe/Berlin:20251106T180000
DTEND;TZID=Europe/Berlin:20251106T190000
DTSTAMP:20260424T170515
CREATED:20251011T183043Z
LAST-MODIFIED:20251011T183048Z
UID:1515-1762452000-1762455600@www.schloss-horst.de
SUMMARY:Mit der Taschenlampe ins Museum
DESCRIPTION:In den dunklen Monaten des Jahres gehen wir auf eine ganz besondere\nZeitreise. Das Licht bleibt aus\, die Geräusche verklingen und nur mit\neiner Taschenlampe in der Hand begeben wir uns auf eine spannende\nFührung durch die 450 Jahre alte Geschichte von Schloss Horst. Unter\nfachkundiger Leitung erleben wir Einblicke in die Welt der Handwerke\nund Pächter. Taschenlampen bekommen Sie vor Ort gestellt. \nDie „Reise“ dauert etwa eine Stunde und ist kostenfrei.\nEine Anmeldung ist erforderlich!\n(0209) 169 – 6131\nschloss.horst@gelsenkirchen.de
URL:https://www.schloss-horst.de/veranstaltung/mit-der-taschenlampe-ins-museum-5/
LOCATION:Glashalle behindertengerecht\, Turfstraße 21\, Gelsenkirchen\, 45899\, Deutschland
END:VEVENT
END:VCALENDAR