BEGIN:VCALENDAR
VERSION:2.0
PRODID:-//Förderverein Schloß Horst e.V. - ECPv6.15.11//NONSGML v1.0//EN
CALSCALE:GREGORIAN
METHOD:PUBLISH
X-ORIGINAL-URL:https://www.schloss-horst.de
X-WR-CALDESC:Veranstaltungen für Förderverein Schloß Horst e.V.
REFRESH-INTERVAL;VALUE=DURATION:PT1H
X-Robots-Tag:noindex
X-PUBLISHED-TTL:PT1H
BEGIN:VTIMEZONE
TZID:Europe/Berlin
BEGIN:DAYLIGHT
TZOFFSETFROM:+0100
TZOFFSETTO:+0200
TZNAME:CEST
DTSTART:20240331T010000
END:DAYLIGHT
BEGIN:STANDARD
TZOFFSETFROM:+0200
TZOFFSETTO:+0100
TZNAME:CET
DTSTART:20241027T010000
END:STANDARD
BEGIN:DAYLIGHT
TZOFFSETFROM:+0100
TZOFFSETTO:+0200
TZNAME:CEST
DTSTART:20250330T010000
END:DAYLIGHT
BEGIN:STANDARD
TZOFFSETFROM:+0200
TZOFFSETTO:+0100
TZNAME:CET
DTSTART:20251026T010000
END:STANDARD
BEGIN:DAYLIGHT
TZOFFSETFROM:+0100
TZOFFSETTO:+0200
TZNAME:CEST
DTSTART:20260329T010000
END:DAYLIGHT
BEGIN:STANDARD
TZOFFSETFROM:+0200
TZOFFSETTO:+0100
TZNAME:CET
DTSTART:20261025T010000
END:STANDARD
END:VTIMEZONE
BEGIN:VEVENT
DTSTART;TZID=Europe/Berlin:20251105T190000
DTEND;TZID=Europe/Berlin:20251105T190000
DTSTAMP:20260424T185505
CREATED:20251011T182335Z
LAST-MODIFIED:20251011T182517Z
UID:1512-1762369200-1762369200@www.schloss-horst.de
SUMMARY:Melange im Schloss
DESCRIPTION:„Das Gespenst von Canterville“ Live-Hörspiel mit Martin Bross \nAls die amerikanische Familie Otis das Schloss Canterville kauft\, ist dieser immer wiederkehrende Fleck nur der Anfang einer turbulenten Geistergeschichte.\nDas Gespenst von Canterville\, das vor 300 Jahren seine Frau umgebracht hat\, will\, wie es sich für ein ordentliches Gespenst gehört\, den Amerikanern gehörig das Gruseln lehren. Aber es rechnet nicht mit der Unerschrockenheit der neuen Schlossbewohner. Und schon bald ist es das Gespenst\, das sich gruselt.\nAls Gesellschaftssatire beginnend\, führt der Autor Oscar Wilde die Erzählung im Stil einer Burleske weiter\, um sie romantisch ausklingen zu lassen.\nDer Schauspieler Martin Bross liest und spielt diese Erzählung und erweckt die Figuren der Handlung zum Leben. Mit geheimnisvollen Licht- und Toneffekten wird dieser Abend Sie tief in das Geheimnis um Sir Simon\, das Gespenst von Canterville\, entführen.\nMartin Bross lebt als Sprecher und Schauspieler in Bonn. Er war bereits\nan diversen Bühnen engagiert\, u.a. in Heidelberg\, Mainz\, Mannheim\, Hamburg und Mülheim.\nDaneben spielte er in verschiedenen Fernseh-\, und Kinoproduktionen mit. Als Sprecher in Hörspielen und Features tritt er für den WDR und andere\nRundfunkanstalten auf. \nMelange e.V.\nTel. 0231/4775981\ninfo@melange-im-netz.de\nhttp://www.melange-im-netz.de/
URL:https://www.schloss-horst.de/veranstaltung/melange-im-schloss/
LOCATION:Glashalle behindertengerecht\, Turfstraße 21\, Gelsenkirchen\, 45899\, Deutschland
END:VEVENT
END:VCALENDAR