BEGIN:VCALENDAR
VERSION:2.0
PRODID:-//Förderverein Schloß Horst e.V. - ECPv6.15.11//NONSGML v1.0//EN
CALSCALE:GREGORIAN
METHOD:PUBLISH
X-WR-CALNAME:Förderverein Schloß Horst e.V.
X-ORIGINAL-URL:https://www.schloss-horst.de
X-WR-CALDESC:Veranstaltungen für Förderverein Schloß Horst e.V.
REFRESH-INTERVAL;VALUE=DURATION:PT1H
X-Robots-Tag:noindex
X-PUBLISHED-TTL:PT1H
BEGIN:VTIMEZONE
TZID:Europe/Berlin
BEGIN:DAYLIGHT
TZOFFSETFROM:+0100
TZOFFSETTO:+0200
TZNAME:CEST
DTSTART:20240331T010000
END:DAYLIGHT
BEGIN:STANDARD
TZOFFSETFROM:+0200
TZOFFSETTO:+0100
TZNAME:CET
DTSTART:20241027T010000
END:STANDARD
BEGIN:DAYLIGHT
TZOFFSETFROM:+0100
TZOFFSETTO:+0200
TZNAME:CEST
DTSTART:20250330T010000
END:DAYLIGHT
BEGIN:STANDARD
TZOFFSETFROM:+0200
TZOFFSETTO:+0100
TZNAME:CET
DTSTART:20251026T010000
END:STANDARD
BEGIN:DAYLIGHT
TZOFFSETFROM:+0100
TZOFFSETTO:+0200
TZNAME:CEST
DTSTART:20260329T010000
END:DAYLIGHT
BEGIN:STANDARD
TZOFFSETFROM:+0200
TZOFFSETTO:+0100
TZNAME:CET
DTSTART:20261025T010000
END:STANDARD
END:VTIMEZONE
BEGIN:VEVENT
DTSTART;TZID=Europe/Berlin:20251001T190000
DTEND;TZID=Europe/Berlin:20251001T190000
DTSTAMP:20260424T191035
CREATED:20250908T180017Z
LAST-MODIFIED:20250908T181634Z
UID:1476-1759345200-1759345200@www.schloss-horst.de
SUMMARY:„Mein lieber Scholli!“ – Ein Tegtmeier-Abend mit Carsten Bülow Melange im Schloss
DESCRIPTION:„Mein lieber Scholli!“ – ein Programm zu Ehren des großen Ruhrgebietskomikers\, Kabarettisten\, Schauspielers und Autors\, Jürgen von Manger. Seine Kultfigur Adolf Tegtmeier verkörpert Bülow wie kaum ein anderer. Auch wenn er ihm nicht annähernd ähnlich sieht. Bülow verzichtet auf eine Maske – nur die charakteristische Kappe ist für ihn nicht weg zu denken.\nLassen Sie sich diesen kurzweiligen Abend mit unvergleichlich schnoddrigem Charme nicht entgehen. Zu hören sind Klassiker wie: „Die Sexualaufklärung“\, „Die Verlobungsrede“\, „Der Schwiegermuttermörder“ und „Die große Westernstory“. Zudem erfährt das Publikum auch etwas über den Schauspieler Jürgen von Manger\, der eigentlich eine klassische Theaterkarriere hinter sich hatte\, bevor er zum Tegtmeier wurde. Natürlich wird auch gesungen\, denn ein Tegtmeier-Abend“ ohne „Bottroper Bier“ ist nicht denkbar.\nCarsten Bülow\, geb. 1963\, lebt in Dortmund. Seit seiner Schulzeit spielt er Theater. Nach 10 Jahren am Stadttheater Dortmund arbeitet er seit 2010 als freier Schauspieler\, Rezitator Moderator und Synchronsprecher. Er wirkte an zahlreichen Produktionen mit\, u.a. an der Oper Wuppertal\, im Theater Fletsch Bizzl oder auf der MS Europa. Er gilt als Spezialist für klassische\nTexte mit bislang etwa 1000 Lesungen. \nEinlass ab 18:30 Uhr. \nhttp://www.melange-im-netz.de \ninfo@melange-im-netz.de
URL:https://www.schloss-horst.de/veranstaltung/mein-lieber-scholli-ein-tegtmeier-abend-mit-carsten-buelow-melange-im-schloss/
LOCATION:Glashalle behindertengerecht\, Turfstraße 21\, Gelsenkirchen\, 45899\, Deutschland
END:VEVENT
END:VCALENDAR