BEGIN:VCALENDAR
VERSION:2.0
PRODID:-//Förderverein Schloß Horst e.V. - ECPv6.15.11//NONSGML v1.0//EN
CALSCALE:GREGORIAN
METHOD:PUBLISH
X-ORIGINAL-URL:https://www.schloss-horst.de
X-WR-CALDESC:Veranstaltungen für Förderverein Schloß Horst e.V.
REFRESH-INTERVAL;VALUE=DURATION:PT1H
X-Robots-Tag:noindex
X-PUBLISHED-TTL:PT1H
BEGIN:VTIMEZONE
TZID:Europe/Berlin
BEGIN:DAYLIGHT
TZOFFSETFROM:+0100
TZOFFSETTO:+0200
TZNAME:CEST
DTSTART:20240331T010000
END:DAYLIGHT
BEGIN:STANDARD
TZOFFSETFROM:+0200
TZOFFSETTO:+0100
TZNAME:CET
DTSTART:20241027T010000
END:STANDARD
BEGIN:DAYLIGHT
TZOFFSETFROM:+0100
TZOFFSETTO:+0200
TZNAME:CEST
DTSTART:20250330T010000
END:DAYLIGHT
BEGIN:STANDARD
TZOFFSETFROM:+0200
TZOFFSETTO:+0100
TZNAME:CET
DTSTART:20251026T010000
END:STANDARD
BEGIN:DAYLIGHT
TZOFFSETFROM:+0100
TZOFFSETTO:+0200
TZNAME:CEST
DTSTART:20260329T010000
END:DAYLIGHT
BEGIN:STANDARD
TZOFFSETFROM:+0200
TZOFFSETTO:+0100
TZNAME:CET
DTSTART:20261025T010000
END:STANDARD
END:VTIMEZONE
BEGIN:VEVENT
DTSTART;TZID=Europe/Berlin:20250919T180000
DTEND;TZID=Europe/Berlin:20250919T200000
DTSTAMP:20260424T211930
CREATED:20250908T182423Z
LAST-MODIFIED:20250908T184033Z
UID:1487-1758304800-1758312000@www.schloss-horst.de
SUMMARY:Greifvögel gemeinsam erleben
DESCRIPTION:Seit Jahrtausenden sind die Menschen fasziniert von Greifvögeln und setzen diese zur Jagd ein. Die Falknerei und die sogenannte Beizjagd erlebten im Mittelalter ihren Höhepunkt. Aber noch bis ins 18. Jahrhundert hinein wurden Falken und Greifvögel vom Adel sehr geschätzt. Zum Teil stand auf die Tötung eines Falken die Todesstrafe. \nDie Falknerei Grieblinger stellt an diesem Abend verschiedene Greifvogelarten und ihre Besonderheiten vor. Im Rahmen des Vortrags wird auf die Geschichte der „Beizjagd“ eingegangen. Zum Abschluss dürfen die Teilnehmer einen der Greife auch auf einem Falknerhandschuh selber halten. \nTreffpunkt ist an der Vorburg um ab 17:45 Uhr.
URL:https://www.schloss-horst.de/veranstaltung/greifvoegel-gemeinsam-erleben/
LOCATION:Schloss und Außengelände
CATEGORIES:Favorit
ATTACH;FMTTYPE=image/jpeg:https://www.schloss-horst.de/wp-content/uploads/2025/09/Renaissance.jpg
ORGANIZER;CN="F%C3%B6rderverein Schlo%C3%9F Horst e. V.":MAILTO:FVSH@schloss-horst.de
END:VEVENT
BEGIN:VEVENT
DTSTART;TZID=Europe/Berlin:20250919T200000
DTEND;TZID=Europe/Berlin:20250919T211500
DTSTAMP:20260424T211930
CREATED:20250713T161817Z
LAST-MODIFIED:20250713T163720Z
UID:1456-1758312000-1758316500@www.schloss-horst.de
SUMMARY:NEW COLOURS FESTIVAL: LASH & GREY [SK] - Ein Doppelkonzert mit Vincent Peirani "Jokers"
DESCRIPTION:Mit ihrer leidenschaftlichen Performance und ihrem unverwechselbaren Sound gehören sie zu den aufregendsten Newcomern der europäischen Musikszene. Die charismatische Sängerin Kristína Mihaľová und der virtuose Gitarrist Jakub Šedivý\, erobern als Lash & Grey mit ihrer einzigartigen Mischung aus Jazz\, Soul und Pop die internationalen Bühnen. Ihre Musik erinnert an Norah Jones\, Etta James oder Billie Holiday und besticht durch intime\, samtige Klänge. Trotz ihrer noch jungen Karriere haben sie schon auf renommierten Bühnen wie z.B. der Carnegie Hall in New York gespielt. 2022 waren sie als einzige Europäer im Finale des prestigeträchtigen Sarah Vaughan Jazz Vocal Wettbewerbs in New Jersey. \nLINEUP\nKRISTÍNA MIHAĽOVÁ VOCALS | JAKUB ŠEDIVÝ GITARRE \nEinlass: ab 19:30 Uhr\, Beginn des Doppelkonzerts mit Lash & Grey: 20:00 Uhr\, Beginn Vincent Peirani Jokers: 21:30 Uhr \nEintritt: an der Abendkasse 49\,00 EUR / ermäßigt 29\,00 EUR\, im Vorverkauf 45\,00 EUR / ermäßigt 27\,00 EUR \nTicketshop: https://tickazz.de/colours-festival \nE-Mail: post@publicjazz.de \nWebsite: www.newcolours-festival.de \nPUBLICJAZZ events\nHabichtsweg 14 | D-45894 Gelsenkirchen \n© Lash & Grey \n 
URL:https://www.schloss-horst.de/veranstaltung/new-colours-festival-lash-grey-sk-ein-doppelkonzert-mit-vincent-peirani-jokers/
LOCATION:Glashalle behindertengerecht\, Turfstraße 21\, Gelsenkirchen\, 45899\, Deutschland
ATTACH;FMTTYPE=image/jpeg:https://www.schloss-horst.de/wp-content/uploads/2025/07/4-25.09.19-zu_LashGrey-Bild.jpg
ORGANIZER;CN="Public Jazz Events":MAILTO:post@publicjazz.de
END:VEVENT
BEGIN:VEVENT
DTSTART;TZID=Europe/Berlin:20250919T200000
DTEND;TZID=Europe/Berlin:20250919T223000
DTSTAMP:20260424T211930
CREATED:20250713T163417Z
LAST-MODIFIED:20250713T163902Z
UID:1459-1758312000-1758321000@www.schloss-horst.de
SUMMARY:NEW COLOURS FESTIVAL: VINCENT PEIRANI JOKERS [F\,I\,ISR] - Ein Doppelkonzert mit Lash & Gray
DESCRIPTION:Wenn der französische Akkordeonist Vincent Peirani die Bühne betritt\, weiß man nie genau\, was passieren wird — nur eines ist sicher: Es wird überraschend\, explosiv und voller Magie! Mit „Jokers“ hat der weltbekannte Virtuose ein Trio erschaffen\, das musikalische Grenzen lustvoll ignoriert. Mal klingt es wie der Soundtrack eines Tarantino-Films\, dann wieder wie ein Roadtrip durch nächtliche Großstadt-Straßen. Gemeinsam mit Gitarrist Federico Casagrande und Schlagzeuger Ziv Ravitz entfacht er ein musikalisches Feuerwerk zwischen Rock\, Elektro\, Jazz und cineastischer Atmosphäre. „Jokers“ ist ein Trip\, ein Rausch\, ein Spiel mit Masken\, Rollen und musikalischer Freiheit. Unberechenbar. Wild. Und absolut fesselnd. \nLINEUP\nVINCENT PEIRANI AKKORDEON | FEDERICO CASAGRANDE GITARRE | ZIV RAVITZ DRUMS \nEinlass: ab 19:30 Uhr\, Beginn des Doppelkonzerts: 20:00 Uhr\, Beginn Vincent Peirani Jokers: 21:30 Uhr \nEintritt: an der Abendkasse 49\,00 EUR / ermäßigt 29\,00 EUR\, im Vorverkauf 45\,00 EUR / ermäßigt 27\,00 EUR \nTicketshop: https://tickazz.de/colours-festival \nE-Mail: post@publicjazz.de \nWebsite: www. newcolours-festival.de \nPUBLICJAZZ events\nHabichtsweg 14 | D-45894 Gelsenkirchen \n© Vincent Peirani
URL:https://www.schloss-horst.de/veranstaltung/new-colours-festival-vincent-peirani-jokers-fiisr-ein-doppelkonzert-mit-lash-gray/
LOCATION:Glashalle behindertengerecht\, Turfstraße 21\, Gelsenkirchen\, 45899\, Deutschland
ATTACH;FMTTYPE=image/jpeg:https://www.schloss-horst.de/wp-content/uploads/2025/07/5-25.09.19zu_VencentPeiraniJokers.jpg
ORGANIZER;CN="Public Jazz Events":MAILTO:post@publicjazz.de
END:VEVENT
END:VCALENDAR