BEGIN:VCALENDAR
VERSION:2.0
PRODID:-//Förderverein Schloß Horst e.V. - ECPv6.15.11//NONSGML v1.0//EN
CALSCALE:GREGORIAN
METHOD:PUBLISH
X-ORIGINAL-URL:https://www.schloss-horst.de
X-WR-CALDESC:Veranstaltungen für Förderverein Schloß Horst e.V.
REFRESH-INTERVAL;VALUE=DURATION:PT1H
X-Robots-Tag:noindex
X-PUBLISHED-TTL:PT1H
BEGIN:VTIMEZONE
TZID:Europe/Berlin
BEGIN:DAYLIGHT
TZOFFSETFROM:+0100
TZOFFSETTO:+0200
TZNAME:CEST
DTSTART:20240331T010000
END:DAYLIGHT
BEGIN:STANDARD
TZOFFSETFROM:+0200
TZOFFSETTO:+0100
TZNAME:CET
DTSTART:20241027T010000
END:STANDARD
BEGIN:DAYLIGHT
TZOFFSETFROM:+0100
TZOFFSETTO:+0200
TZNAME:CEST
DTSTART:20250330T010000
END:DAYLIGHT
BEGIN:STANDARD
TZOFFSETFROM:+0200
TZOFFSETTO:+0100
TZNAME:CET
DTSTART:20251026T010000
END:STANDARD
BEGIN:DAYLIGHT
TZOFFSETFROM:+0100
TZOFFSETTO:+0200
TZNAME:CEST
DTSTART:20260329T010000
END:DAYLIGHT
BEGIN:STANDARD
TZOFFSETFROM:+0200
TZOFFSETTO:+0100
TZNAME:CET
DTSTART:20261025T010000
END:STANDARD
END:VTIMEZONE
BEGIN:VEVENT
DTSTART;TZID=Europe/Berlin:20250914T180000
DTEND;TZID=Europe/Berlin:20250914T210000
DTSTAMP:20260424T211104
CREATED:20250713T160704Z
LAST-MODIFIED:20250713T160704Z
UID:1451-1757872800-1757883600@www.schloss-horst.de
SUMMARY:Sinfoniekonzert - Strauß\, Mozart und Watkins
DESCRIPTION:Das Programm präsentiert zwei Werke des 20.und 21. Jahrhunderts für Solo-Horn und Orchester – kontrastreich beleuchtet durch die beiden letzten Sinfonien von W.A. Mozart\, der selbst 4 Hornkonzerte komponierte. \nEintritt: 18\,- EUR / Vorverkauf: 15\,- EUR / Schüler\, Studenten\, Azubis\, Geflüchtete: Eintritt frei \nReservierung: Info@confido.org\, 02362 2704530\, Buchhandlung Kottmann\, Neumarkt 1\, Gelsenkirchen \nTelefon (Claudia Temp):  0172 1786 105 \nE-Mail: claudia.temp@confido.org \nWebsite: www.confido.org \nEinlass: ab 17:30 Uhr \n© Copyrightangabe*: 1. Foto Sabine Bornemann\, 2. Foto Detlev Ziesick
URL:https://www.schloss-horst.de/veranstaltung/sinfoniekonzert-strauss-mozart-und-watkins/
LOCATION:Glashalle behindertengerecht\, Turfstraße 21\, Gelsenkirchen\, 45899\, Deutschland
ORGANIZER;CN="confido vocale & camerata e.V. in Kooperation mit KBZ Schloss Horst":MAILTO:info@confido.org
END:VEVENT
END:VCALENDAR