BEGIN:VCALENDAR
VERSION:2.0
PRODID:-//Förderverein Schloß Horst e.V. - ECPv6.15.11//NONSGML v1.0//EN
CALSCALE:GREGORIAN
METHOD:PUBLISH
X-ORIGINAL-URL:https://www.schloss-horst.de
X-WR-CALDESC:Veranstaltungen für Förderverein Schloß Horst e.V.
REFRESH-INTERVAL;VALUE=DURATION:PT1H
X-Robots-Tag:noindex
X-PUBLISHED-TTL:PT1H
BEGIN:VTIMEZONE
TZID:Europe/Berlin
BEGIN:DAYLIGHT
TZOFFSETFROM:+0100
TZOFFSETTO:+0200
TZNAME:CEST
DTSTART:20240331T010000
END:DAYLIGHT
BEGIN:STANDARD
TZOFFSETFROM:+0200
TZOFFSETTO:+0100
TZNAME:CET
DTSTART:20241027T010000
END:STANDARD
BEGIN:DAYLIGHT
TZOFFSETFROM:+0100
TZOFFSETTO:+0200
TZNAME:CEST
DTSTART:20250330T010000
END:DAYLIGHT
BEGIN:STANDARD
TZOFFSETFROM:+0200
TZOFFSETTO:+0100
TZNAME:CET
DTSTART:20251026T010000
END:STANDARD
BEGIN:DAYLIGHT
TZOFFSETFROM:+0100
TZOFFSETTO:+0200
TZNAME:CEST
DTSTART:20260329T010000
END:DAYLIGHT
BEGIN:STANDARD
TZOFFSETFROM:+0200
TZOFFSETTO:+0100
TZNAME:CET
DTSTART:20261025T010000
END:STANDARD
END:VTIMEZONE
BEGIN:VEVENT
DTSTART;TZID=Europe/Berlin:20250912T193000
DTEND;TZID=Europe/Berlin:20250912T220000
DTSTAMP:20260424T212201
CREATED:20250713T155129Z
LAST-MODIFIED:20250908T183938Z
UID:1442-1757705400-1757714400@www.schloss-horst.de
SUMMARY:DIE NEUNTE GELSENKIRCHENER GITARRENNACHT– klangvoll\, emotional und vielfältig
DESCRIPTION:mit French Touch\, Maurice Dickson\, Michael Völkel und Nachwuchstalenten der Musikschule Gelsenkirchen \nDieses Konzert steht ganz im Glanz internationaler und in jedem Fall besonderer Akustikmusik mit Emotion\, Temperament und stilistischer Vielfalt. Zudem gibt es eine konzeptionelle Erweiterung (Jugendförderung). \nFrench Touch (Stefanie Schulte-Hoffmann & Peter Brekau) zollen der französischen Musik von Ravel bis Galliano Tribut. Das Gitarren-Akkordeon-Duo schlägt ebenso Brücken zum argentinischen Tango.\nMaurice Dickson aus Nordirland begeistert mit außergewöhnlichen Interpretationen aus internationalem Folk\, Blues und eindrucksvollen Eigenkompositionen. Fließendes Finger-Picking und kreative Virtuosität zeichnen seinen ganz eigenen Klang und Stil.\nDrei junge Talente der Talent Akademie Musik (TAM) an der Städtischen Musikschule Gelsenkirchen – Stefan Bota\, Noah Yintchi und Elisa Komorniczak – bringen frischen Wind in die Gitarrennacht. Letztere beiden sind diesjährige Preisträger beim Landeswettbewerb „Jugend musiziert“. Gemeinsam mit ihrem Gitarrenlehrer Stefan Nern präsentieren sie als Ensemble barocke Klänge aus Venedig. Solistisch interpretieren die Newcomer Musik aus Spanien\, Südamerika und der Folkszene (60er).\nDurch den Abend führt Michael Völkel\, der Initiator der Gitarrennacht. Er rundet das Programm mit eigenen raffinierten Interpretationen aus Klassik bis Rock ab – gespielt auf unterschiedlichen Gitarreninstrumenten. \nReservierung: ticket@ikm-ge.de (nur AK und ermäßigt); https://www.eventim-light.com/de/a/62e25834e85ece26a207b7c5/e/67fd3ccac09153707b68c2fb \nTel.: 0177 6839557 \nE-Mail: ticket@ikm-ge.de \nWebsite: https://ikm-ge.de/ \nEinlass: ab 18:30 Uhr \nEintrittspreis: an der Abendkasse: 20\,- EUR / im Vorverkauf: 18\,- EUR / ermäßigt: 15\,- EUR \n© Copyrightangabe*:  French Touch:\nFotostudio Brinkmann Dortmund\, Michael Dobala\nMichael Völkel: shurako ©\nMaurice Dickson: Kery Felske\nBearbeitung: Kery Felske\nIn der Anlage sind auch Bilder der Schüler:innen der Musikschule Gelsenkirchen\nNoah Yintchi: Caroline Seidel\nElisa Komorniczak: John Lin\nStefan Bota: Stefan Nern \n \n  \n \n  \n  \n 
URL:https://www.schloss-horst.de/veranstaltung/die-neunte-gelsenkirchener-gitarrennacht-klangvoll-emotional-und-vielfaeltig/
LOCATION:Glashalle behindertengerecht\, Turfstraße 21\, Gelsenkirchen\, 45899\, Deutschland
END:VEVENT
END:VCALENDAR