BEGIN:VCALENDAR
VERSION:2.0
PRODID:-//Förderverein Schloß Horst e.V. - ECPv6.15.11//NONSGML v1.0//EN
CALSCALE:GREGORIAN
METHOD:PUBLISH
X-WR-CALNAME:Förderverein Schloß Horst e.V.
X-ORIGINAL-URL:https://www.schloss-horst.de
X-WR-CALDESC:Veranstaltungen für Förderverein Schloß Horst e.V.
REFRESH-INTERVAL;VALUE=DURATION:PT1H
X-Robots-Tag:noindex
X-PUBLISHED-TTL:PT1H
BEGIN:VTIMEZONE
TZID:Europe/Berlin
BEGIN:DAYLIGHT
TZOFFSETFROM:+0100
TZOFFSETTO:+0200
TZNAME:CEST
DTSTART:20240331T010000
END:DAYLIGHT
BEGIN:STANDARD
TZOFFSETFROM:+0200
TZOFFSETTO:+0100
TZNAME:CET
DTSTART:20241027T010000
END:STANDARD
BEGIN:DAYLIGHT
TZOFFSETFROM:+0100
TZOFFSETTO:+0200
TZNAME:CEST
DTSTART:20250330T010000
END:DAYLIGHT
BEGIN:STANDARD
TZOFFSETFROM:+0200
TZOFFSETTO:+0100
TZNAME:CET
DTSTART:20251026T010000
END:STANDARD
BEGIN:DAYLIGHT
TZOFFSETFROM:+0100
TZOFFSETTO:+0200
TZNAME:CEST
DTSTART:20260329T010000
END:DAYLIGHT
BEGIN:STANDARD
TZOFFSETFROM:+0200
TZOFFSETTO:+0100
TZNAME:CET
DTSTART:20261025T010000
END:STANDARD
END:VTIMEZONE
BEGIN:VEVENT
DTSTART;TZID=Europe/Berlin:20250813T100000
DTEND;TZID=Europe/Berlin:20250813T130000
DTSTAMP:20260424T231938
CREATED:20250616T131625Z
LAST-MODIFIED:20250616T142831Z
UID:1428-1755079200-1755090000@www.schloss-horst.de
SUMMARY:Sommerferien im Erlebnismuseum Schloss Horst
DESCRIPTION:Kinder zwischen 6 und 10 Jahren erkunden in einem Workshop von 10 bis 13 Uhr spielerisch das Museum und modellieren anschließend mit Ton Spielzeug-Murmeln und/oder faustgroße Tiere wie Mäuschen oder Enten\, die zuvor im Museum entdeckt werden konnten. \nSelbstverständlich machen wir eine kleine Snackpause. Dafür bringst du dir etwas leckeres zu Essen mit. \nFür Kinder im Alter von 6 bis 10 Jahren. Da nur eine begrenzte Zahl von Kindern teilnehmen können\, bitten wir um Anmeldung unter unter 0209 – 169 6131. \nschloss.horst@gelsenkirchen.de \n© Lokomotiv-Fotografie
URL:https://www.schloss-horst.de/veranstaltung/sommerferien-im-erlebnismuseum-schloss-horst/
LOCATION:Glashalle behindertengerecht\, Turfstraße 21\, Gelsenkirchen\, 45899\, Deutschland
ORGANIZER;CN="Erlebnismuseum Schloss Horst in Kooperation mit dem KBZ Schloss Horst und dem F%C3%B6rderverein Schlo%C3%9F Horst e.V.":MAILTO:doerte.rotthauwe@gelsenkirchen.de
END:VEVENT
END:VCALENDAR